BEGIN:VCALENDAR
VERSION:2.0
PRODID:-//St. Marys College Ballysadare, Sligo - ECPv6.15.11//NONSGML v1.0//EN
CALSCALE:GREGORIAN
METHOD:PUBLISH
X-ORIGINAL-URL:https://smcb.ie
X-WR-CALDESC:Events for St. Marys College Ballysadare, Sligo
REFRESH-INTERVAL;VALUE=DURATION:PT1H
X-Robots-Tag:noindex
X-PUBLISHED-TTL:PT1H
BEGIN:VTIMEZONE
TZID:UTC
BEGIN:STANDARD
TZOFFSETFROM:+0000
TZOFFSETTO:+0000
TZNAME:UTC
DTSTART:20230101T000000
END:STANDARD
END:VTIMEZONE
BEGIN:VEVENT
DTSTART;VALUE=DATE:20240212
DTEND;VALUE=DATE:20240219
DTSTAMP:20260424T174307
CREATED:20230820T141540Z
LAST-MODIFIED:20240123T211631Z
UID:71780-1707696000-1708300799@smcb.ie
SUMMARY:Mid Term Break
DESCRIPTION:
URL:https://smcb.ie/event/mid-term-break-5/
END:VEVENT
END:VCALENDAR