BEGIN:VCALENDAR
VERSION:2.0
PRODID:-//St. Marys College Ballysadare, Sligo - ECPv6.15.11//NONSGML v1.0//EN
CALSCALE:GREGORIAN
METHOD:PUBLISH
X-ORIGINAL-URL:https://smcb.ie
X-WR-CALDESC:Events for St. Marys College Ballysadare, Sligo
REFRESH-INTERVAL;VALUE=DURATION:PT1H
X-Robots-Tag:noindex
X-PUBLISHED-TTL:PT1H
BEGIN:VTIMEZONE
TZID:Europe/Dublin
BEGIN:STANDARD
TZOFFSETFROM:+0000
TZOFFSETTO:+0100
TZNAME:IST
DTSTART:20230326T010000
END:STANDARD
BEGIN:DAYLIGHT
TZOFFSETFROM:+0100
TZOFFSETTO:+0000
TZNAME:GMT
DTSTART:20231029T010000
END:DAYLIGHT
BEGIN:STANDARD
TZOFFSETFROM:+0000
TZOFFSETTO:+0100
TZNAME:IST
DTSTART:20240331T010000
END:STANDARD
BEGIN:DAYLIGHT
TZOFFSETFROM:+0100
TZOFFSETTO:+0000
TZNAME:GMT
DTSTART:20241027T010000
END:DAYLIGHT
BEGIN:STANDARD
TZOFFSETFROM:+0000
TZOFFSETTO:+0100
TZNAME:IST
DTSTART:20250330T010000
END:STANDARD
BEGIN:DAYLIGHT
TZOFFSETFROM:+0100
TZOFFSETTO:+0000
TZNAME:GMT
DTSTART:20251026T010000
END:DAYLIGHT
END:VTIMEZONE
BEGIN:VEVENT
DTSTART;VALUE=DATE:20240425
DTEND;VALUE=DATE:20240426
DTSTAMP:20260424T141445
CREATED:20240424T181657Z
LAST-MODIFIED:20240424T181657Z
UID:72631-1714003200-1714089599@smcb.ie
SUMMARY:Leaving Cert Art Exam
DESCRIPTION:
URL:https://smcb.ie/event/leaving-cert-art-exam/
END:VEVENT
BEGIN:VEVENT
DTSTART;VALUE=DATE:20240425
DTEND;VALUE=DATE:20240426
DTSTAMP:20260424T141445
CREATED:20240424T181824Z
LAST-MODIFIED:20240424T181824Z
UID:72634-1714003200-1714089599@smcb.ie
SUMMARY:Music ASD Class
DESCRIPTION:
URL:https://smcb.ie/event/music-asd-class-2/
END:VEVENT
BEGIN:VEVENT
DTSTART;VALUE=DATE:20240425
DTEND;VALUE=DATE:20240426
DTSTAMP:20260424T141445
CREATED:20240424T181950Z
LAST-MODIFIED:20240424T181950Z
UID:72636-1714003200-1714089599@smcb.ie
SUMMARY:Body Kind Programme TYs
DESCRIPTION:
URL:https://smcb.ie/event/body-kind-programme-tys/
END:VEVENT
BEGIN:VEVENT
DTSTART;VALUE=DATE:20240425
DTEND;VALUE=DATE:20240426
DTSTAMP:20260424T141445
CREATED:20240424T182028Z
LAST-MODIFIED:20240424T182028Z
UID:72638-1714003200-1714089599@smcb.ie
SUMMARY:Badminton Boys
DESCRIPTION:
URL:https://smcb.ie/event/badminton-boys/
END:VEVENT
END:VCALENDAR