BEGIN:VCALENDAR
VERSION:2.0
PRODID:-//St. Marys College Ballysadare, Sligo - ECPv6.15.11//NONSGML v1.0//EN
CALSCALE:GREGORIAN
METHOD:PUBLISH
X-WR-CALNAME:St. Marys College Ballysadare, Sligo
X-ORIGINAL-URL:https://smcb.ie
X-WR-CALDESC:Events for St. Marys College Ballysadare, Sligo
REFRESH-INTERVAL;VALUE=DURATION:PT1H
X-Robots-Tag:noindex
X-PUBLISHED-TTL:PT1H
BEGIN:VTIMEZONE
TZID:UTC
BEGIN:STANDARD
TZOFFSETFROM:+0000
TZOFFSETTO:+0000
TZNAME:UTC
DTSTART:20220101T000000
END:STANDARD
END:VTIMEZONE
BEGIN:VTIMEZONE
TZID:Europe/Dublin
BEGIN:STANDARD
TZOFFSETFROM:+0000
TZOFFSETTO:+0100
TZNAME:IST
DTSTART:20220327T010000
END:STANDARD
BEGIN:DAYLIGHT
TZOFFSETFROM:+0100
TZOFFSETTO:+0000
TZNAME:GMT
DTSTART:20221030T010000
END:DAYLIGHT
BEGIN:STANDARD
TZOFFSETFROM:+0000
TZOFFSETTO:+0100
TZNAME:IST
DTSTART:20230326T010000
END:STANDARD
BEGIN:DAYLIGHT
TZOFFSETFROM:+0100
TZOFFSETTO:+0000
TZNAME:GMT
DTSTART:20231029T010000
END:DAYLIGHT
BEGIN:STANDARD
TZOFFSETFROM:+0000
TZOFFSETTO:+0100
TZNAME:IST
DTSTART:20240331T010000
END:STANDARD
BEGIN:DAYLIGHT
TZOFFSETFROM:+0100
TZOFFSETTO:+0000
TZNAME:GMT
DTSTART:20241027T010000
END:DAYLIGHT
END:VTIMEZONE
BEGIN:VEVENT
DTSTART;VALUE=DATE:20230924
DTEND;VALUE=DATE:20230925
DTSTAMP:20260421T064348
CREATED:20230820T141507Z
LAST-MODIFIED:20230911T114320Z
UID:71767-1695513600-1695599999@smcb.ie
SUMMARY:Mercy Day
DESCRIPTION:
URL:https://smcb.ie/event/mercy-day-3/
END:VEVENT
BEGIN:VEVENT
DTSTART;VALUE=DATE:20230922
DTEND;VALUE=DATE:20230923
DTSTAMP:20260421T064348
CREATED:20230911T114428Z
LAST-MODIFIED:20230911T114428Z
UID:72087-1695340800-1695427199@smcb.ie
SUMMARY:Mercy Day Mass
DESCRIPTION:
URL:https://smcb.ie/event/mercy-day-mass/
END:VEVENT
BEGIN:VEVENT
DTSTART;VALUE=DATE:20230920
DTEND;VALUE=DATE:20230921
DTSTAMP:20260421T064348
CREATED:20230911T114842Z
LAST-MODIFIED:20230911T114938Z
UID:72091-1695168000-1695254399@smcb.ie
SUMMARY:LC Trip to Higher Options\, RDS Dublin
DESCRIPTION:
URL:https://smcb.ie/event/lc-trip-to-higher-options-rds-dublin/
END:VEVENT
BEGIN:VEVENT
DTSTART;VALUE=DATE:20230919
DTEND;VALUE=DATE:20230920
DTSTAMP:20260421T064348
CREATED:20230911T114729Z
LAST-MODIFIED:20230911T114729Z
UID:72089-1695081600-1695167999@smcb.ie
SUMMARY:School Trip to Ploughing Championships
DESCRIPTION:
URL:https://smcb.ie/event/school-trip-to-ploughing-championships/
END:VEVENT
BEGIN:VEVENT
DTSTART;VALUE=DATE:20230831
DTEND;VALUE=DATE:20230901
DTSTAMP:20260421T064348
CREATED:20230820T141506Z
LAST-MODIFIED:20230821T093848Z
UID:71765-1693440000-1693526399@smcb.ie
SUMMARY:All Years Return (TY Induction Day)
DESCRIPTION:
URL:https://smcb.ie/event/all-years-return-ty-induction-day-3/
END:VEVENT
BEGIN:VEVENT
DTSTART;VALUE=DATE:20230830
DTEND;VALUE=DATE:20230831
DTSTAMP:20260421T064348
CREATED:20230820T141507Z
LAST-MODIFIED:20230822T141952Z
UID:71766-1693353600-1693439999@smcb.ie
SUMMARY:School for 1st\, 2nd\, 3rd\, 5th and 6th Years
DESCRIPTION:
URL:https://smcb.ie/event/school-for-1st-3rd-5th-and-6th-years-3/
END:VEVENT
BEGIN:VEVENT
DTSTART;VALUE=DATE:20230829
DTEND;VALUE=DATE:20230830
DTSTAMP:20260421T064348
CREATED:20230820T141506Z
LAST-MODIFIED:20230821T093741Z
UID:71764-1693267200-1693353599@smcb.ie
SUMMARY:School Re-Opens for 1st\, 3rd and 6th Years
DESCRIPTION:
URL:https://smcb.ie/event/school-re-opens-for-1st-3rd-and-6th-years-3/
END:VEVENT
BEGIN:VEVENT
DTSTART;VALUE=DATE:20230828
DTEND;VALUE=DATE:20230829
DTSTAMP:20260421T064348
CREATED:20230820T141506Z
LAST-MODIFIED:20230821T093215Z
UID:71763-1693180800-1693267199@smcb.ie
SUMMARY:School Re-Opens for 1st Years
DESCRIPTION:
URL:https://smcb.ie/event/school-re-opens-for-1st-years-4/
END:VEVENT
END:VCALENDAR