BEGIN:VCALENDAR
VERSION:2.0
PRODID:-//St. Marys College Ballysadare, Sligo - ECPv6.15.11//NONSGML v1.0//EN
CALSCALE:GREGORIAN
METHOD:PUBLISH
X-ORIGINAL-URL:https://smcb.ie
X-WR-CALDESC:Events for St. Marys College Ballysadare, Sligo
REFRESH-INTERVAL;VALUE=DURATION:PT1H
X-Robots-Tag:noindex
X-PUBLISHED-TTL:PT1H
BEGIN:VTIMEZONE
TZID:Europe/Dublin
BEGIN:STANDARD
TZOFFSETFROM:+0000
TZOFFSETTO:+0100
TZNAME:IST
DTSTART:20230326T010000
END:STANDARD
BEGIN:DAYLIGHT
TZOFFSETFROM:+0100
TZOFFSETTO:+0000
TZNAME:GMT
DTSTART:20231029T010000
END:DAYLIGHT
BEGIN:STANDARD
TZOFFSETFROM:+0000
TZOFFSETTO:+0100
TZNAME:IST
DTSTART:20240331T010000
END:STANDARD
BEGIN:DAYLIGHT
TZOFFSETFROM:+0100
TZOFFSETTO:+0000
TZNAME:GMT
DTSTART:20241027T010000
END:DAYLIGHT
BEGIN:STANDARD
TZOFFSETFROM:+0000
TZOFFSETTO:+0100
TZNAME:IST
DTSTART:20250330T010000
END:STANDARD
BEGIN:DAYLIGHT
TZOFFSETFROM:+0100
TZOFFSETTO:+0000
TZNAME:GMT
DTSTART:20251026T010000
END:DAYLIGHT
END:VTIMEZONE
BEGIN:VTIMEZONE
TZID:UTC
BEGIN:STANDARD
TZOFFSETFROM:+0000
TZOFFSETTO:+0000
TZNAME:UTC
DTSTART:20230101T000000
END:STANDARD
END:VTIMEZONE
BEGIN:VEVENT
DTSTART;VALUE=DATE:20240301
DTEND;VALUE=DATE:20240302
DTSTAMP:20260424T141408
CREATED:20240217T222353Z
LAST-MODIFIED:20240312T202356Z
UID:72405-1709251200-1709337599@smcb.ie
SUMMARY:All roads lead to Croke Park - Aberdeen Angus Competition
DESCRIPTION:
URL:https://smcb.ie/event/all-roads-lead-to-croke-park-aberdeen-angus-competition/
END:VEVENT
BEGIN:VEVENT
DTSTART;VALUE=DATE:20240301
DTEND;VALUE=DATE:20240302
DTSTAMP:20260424T141408
CREATED:20240312T202059Z
LAST-MODIFIED:20240312T202349Z
UID:72459-1709251200-1709337599@smcb.ie
SUMMARY:TY Students in Croke Park
DESCRIPTION:
URL:https://smcb.ie/event/ty-students-in-croke-park/
END:VEVENT
BEGIN:VEVENT
DTSTART;VALUE=DATE:20240305
DTEND;VALUE=DATE:20240306
DTSTAMP:20260424T141408
CREATED:20240312T202208Z
LAST-MODIFIED:20240312T205128Z
UID:72461-1709596800-1709683199@smcb.ie
SUMMARY:Juvenile GAA Team vs Easkey
DESCRIPTION:
URL:https://smcb.ie/event/juvenile-gaa-team-vs-easkey/
END:VEVENT
BEGIN:VEVENT
DTSTART;VALUE=DATE:20240307
DTEND;VALUE=DATE:20240308
DTSTAMP:20260424T141408
CREATED:20240312T203430Z
LAST-MODIFIED:20240312T205121Z
UID:72469-1709769600-1709855999@smcb.ie
SUMMARY:Sligo County Council Gaelteacht Scholarship Presentation
DESCRIPTION:
URL:https://smcb.ie/event/sligo-county-council-gaelteacht-scholarship-presentation/
END:VEVENT
BEGIN:VEVENT
DTSTART;VALUE=DATE:20240312
DTEND;VALUE=DATE:20240313
DTSTAMP:20260424T141408
CREATED:20240312T202604Z
LAST-MODIFIED:20240312T203233Z
UID:72463-1710201600-1710287999@smcb.ie
SUMMARY:Set Dancing TY Students / Cultural Integration
DESCRIPTION:
URL:https://smcb.ie/event/set-dancing-ty-students-cultural-integration/
END:VEVENT
BEGIN:VEVENT
DTSTART;VALUE=DATE:20240313
DTEND;VALUE=DATE:20240314
DTSTAMP:20260424T141408
CREATED:20240213T082534Z
LAST-MODIFIED:20240312T203550Z
UID:72407-1710288000-1710374399@smcb.ie
SUMMARY:County Final of the TY Student Enterprise Competition
DESCRIPTION:County Final of the TY Student Enterprise Competitionat the Sligo Park Hotel
URL:https://smcb.ie/event/ty-students-participating-in-the-finals-of-the-student-enterprise-competition/
END:VEVENT
BEGIN:VEVENT
DTSTART;VALUE=DATE:20240315
DTEND;VALUE=DATE:20240316
DTSTAMP:20260424T141408
CREATED:20240312T203034Z
LAST-MODIFIED:20240312T203227Z
UID:72466-1710460800-1710547199@smcb.ie
SUMMARY:Green Schools Day
DESCRIPTION:
URL:https://smcb.ie/event/green-schools-day/
END:VEVENT
BEGIN:VEVENT
DTSTART;VALUE=DATE:20240315
DTEND;VALUE=DATE:20240316
DTSTAMP:20260424T141408
CREATED:20240312T220508Z
LAST-MODIFIED:20240312T220611Z
UID:72534-1710460800-1710547199@smcb.ie
SUMMARY:Girls Soccer
DESCRIPTION:
URL:https://smcb.ie/event/girls-soccer/
END:VEVENT
BEGIN:VEVENT
DTSTART;VALUE=DATE:20240318
DTEND;VALUE=DATE:20240319
DTSTAMP:20260424T141408
CREATED:20230820T141540Z
LAST-MODIFIED:20240312T202818Z
UID:71782-1710720000-1710806399@smcb.ie
SUMMARY:B/H School Closed
DESCRIPTION:
URL:https://smcb.ie/event/school-closed-5/
END:VEVENT
BEGIN:VEVENT
DTSTART;VALUE=DATE:20240319
DTEND;VALUE=DATE:20240320
DTSTAMP:20260424T141408
CREATED:20240312T204603Z
LAST-MODIFIED:20240312T205154Z
UID:72473-1710806400-1710892799@smcb.ie
SUMMARY:TY Road Safety Workshop
DESCRIPTION:
URL:https://smcb.ie/event/ty-road-safety-workshop/
END:VEVENT
BEGIN:VEVENT
DTSTART;VALUE=DATE:20240320
DTEND;VALUE=DATE:20240321
DTSTAMP:20260424T141408
CREATED:20240312T205015Z
LAST-MODIFIED:20240312T205217Z
UID:72479-1710892800-1710979199@smcb.ie
SUMMARY:Meeting for Senior Student Lake Garda
DESCRIPTION:
URL:https://smcb.ie/event/meeting-for-senior-student-lake-garda/
END:VEVENT
BEGIN:VEVENT
DTSTART;VALUE=DATE:20240321
DTEND;VALUE=DATE:20240322
DTSTAMP:20260424T141408
CREATED:20240321T110016Z
LAST-MODIFIED:20240321T081050Z
UID:72477-1710979200-1711065599@smcb.ie
SUMMARY:Student Talent Show
DESCRIPTION:
URL:https://smcb.ie/event/student-talent-show/
END:VEVENT
BEGIN:VEVENT
DTSTART;VALUE=DATE:20240321
DTEND;VALUE=DATE:20240322
DTSTAMP:20260424T141408
CREATED:20240321T140020Z
LAST-MODIFIED:20240321T081250Z
UID:72568-1710979200-1711065599@smcb.ie
SUMMARY:St Marys Talent Show
DESCRIPTION:
URL:https://smcb.ie/event/st-marys-talent-show/
END:VEVENT
BEGIN:VEVENT
DTSTART;VALUE=DATE:20240322
DTEND;VALUE=DATE:20240323
DTSTAMP:20260424T141408
CREATED:20230820T141555Z
LAST-MODIFIED:20230821T094007Z
UID:71785-1711065600-1711151999@smcb.ie
SUMMARY:School Closes for Easter Holidays
DESCRIPTION:
URL:https://smcb.ie/event/school-closes-for-easter-holidays-3/
END:VEVENT
END:VCALENDAR